BEGIN:VCALENDAR
VERSION:2.0
PRODID:-//empowercdc.org//NONSGML kigkonsult.se iCalcreator 2.30.10//
CALSCALE:GREGORIAN
METHOD:PUBLISH
UID:2a7fdb51-060a-4963-bbca-5456736504de
X-WR-CALDESC:SOCIAL\nCP- JEANETTE - EARTH\nDAY BINGO\n@11AM\n\nSOCIAL\nARIE
 S/ TAURUA BIRTHDAY\n@11AM\n\nSENIOR LITERACY 101\nINTRO TO EMAIL\n\n*Resid
 ent only event*
X-WR-RELCALID:7f8ed9c7d76387af1d1e8fba3a2c1faa
X-WR-TIMEZONE:America/Chicago
BEGIN:VTIMEZONE
TZID:America/Chicago
BEGIN:STANDARD
TZNAME:CST
DTSTART:20241103T020000
TZOFFSETFROM:-0500
TZOFFSETTO:-0600
RDATE:20251102T020000
END:STANDARD
BEGIN:DAYLIGHT
TZNAME:CDT
DTSTART:20250309T020000
TZOFFSETFROM:-0600
TZOFFSETTO:-0500
RDATE:20260308T020000
END:DAYLIGHT
END:VTIMEZONE
BEGIN:VEVENT
UID:7a0d5ee9-feab-4394-b0c8-bcadb5c50c42
DTSTAMP:20260423T072552Z
DESCRIPTION:SOCIAL\nCP- JEANETTE - EARTH\nDAY BINGO\n@11AM\n\nSOCIAL\nARIES
 / TAURUA BIRTHDAY\n@11AM\n\nSENIOR LITERACY 101\nINTRO TO EMAIL\n\n*Reside
 nt only event*
DTSTART;TZID=America/Chicago:20250414T110000
DTEND;TZID=America/Chicago:20250414T120000
LOCATION:1717 FM359\, Richmond\, TX 77406 US
SUMMARY:Jones Creek: Bingo
END:VEVENT
END:VCALENDAR
