BEGIN:VCALENDAR
VERSION:2.0
PRODID:-//empowercdc.org//NONSGML kigkonsult.se iCalcreator 2.30.10//
CALSCALE:GREGORIAN
METHOD:PUBLISH
UID:c0e12ba4-b549-46f5-976b-ac747d501ee9
X-WR-CALDESC:ARTS & CRAFTS\nEmpower\nEaster Painting\n@ 3:00 PM\n\nCHARACTE
 R BUILDING\nEmpower\nSpelling B\n@ 4:00 PM\n\n*Resident only event*
X-WR-RELCALID:e6fbc2e5418d2bb485ddf302a23fafff
X-WR-TIMEZONE:America/Chicago
BEGIN:VTIMEZONE
TZID:America/Chicago
BEGIN:STANDARD
TZNAME:CST
DTSTART:20241103T020000
TZOFFSETFROM:-0500
TZOFFSETTO:-0600
RDATE:20251102T020000
END:STANDARD
BEGIN:DAYLIGHT
TZNAME:CDT
DTSTART:20250309T020000
TZOFFSETFROM:-0600
TZOFFSETTO:-0500
RDATE:20260308T020000
END:DAYLIGHT
END:VTIMEZONE
BEGIN:VEVENT
UID:e6896f5b-97fa-4e87-bdcb-88f26f26a7ee
DTSTAMP:20260423T072805Z
DESCRIPTION:ARTS & CRAFTS\nEmpower\nEaster Painting\n@ 3:00 PM\n\nCHARACTER
  BUILDING\nEmpower\nSpelling B\n@ 4:00 PM\n\n*Resident only event*
DTSTART;TZID=America/Chicago:20250411T150000
DTEND;TZID=America/Chicago:20250411T170000
LOCATION:12353 Huffmeister Rd\, Cypress\, TX 77429 US
SUMMARY:The Meadows: Arts & Crafts\, Character Building
END:VEVENT
END:VCALENDAR
