BEGIN:VCALENDAR
VERSION:2.0
PRODID:-//empowercdc.org//NONSGML kigkonsult.se iCalcreator 2.30.10//
CALSCALE:GREGORIAN
METHOD:PUBLISH
UID:3962348a-3abe-4553-91fe-a2140d47ba5f
X-WR-CALDESC:ARTS & CRAFTS\nDIAMOND ART MAGNETS\n@10AM\n\nEXERCISE\nGROUP E
 XERCISE\n@11AM
X-WR-RELCALID:2b10881d0c7c8546e60c6b79fc8714ae
X-WR-TIMEZONE:America/Chicago
BEGIN:VTIMEZONE
TZID:America/Chicago
BEGIN:STANDARD
TZNAME:CST
DTSTART:20241103T020000
TZOFFSETFROM:-0500
TZOFFSETTO:-0600
RDATE:20251102T020000
END:STANDARD
BEGIN:DAYLIGHT
TZNAME:CDT
DTSTART:20250309T020000
TZOFFSETFROM:-0600
TZOFFSETTO:-0500
RDATE:20260308T020000
END:DAYLIGHT
END:VTIMEZONE
BEGIN:VEVENT
UID:634ddb2f-1e2f-44de-a4d1-916d5983f7f9
DTSTAMP:20260423T072956Z
DESCRIPTION:ARTS & CRAFTS\nDIAMOND ART MAGNETS\n@10AM\n\nEXERCISE\nGROUP EX
 ERCISE\n@11AM
DTSTART;TZID=America/Chicago:20250411T100000
DTEND;TZID=America/Chicago:20250411T120000
LOCATION:15707 Kuykendahl Ct\, Conroe\, TX 77384 US
SUMMARY:Kuykendalh Court: Arts & Crafts\, Exercise
END:VEVENT
END:VCALENDAR
