BEGIN:VCALENDAR
VERSION:2.0
PRODID:-//empowercdc.org//NONSGML kigkonsult.se iCalcreator 2.30.10//
CALSCALE:GREGORIAN
METHOD:PUBLISH
UID:bb8da84e-ca7f-4636-9ecd-cb72ba08d2a9
X-WR-CALDESC:ARTS & CRAFTS-\nDoTerra\n\nSleep Challenge Oil\n@10:00 AM\n\nS
 OCIAL/TxSMP\nResident Luncheon\n@ 11:00AM
X-WR-RELCALID:6dcbf36231520c16ba9a57ae574df9be
X-WR-TIMEZONE:America/Chicago
BEGIN:VTIMEZONE
TZID:America/Chicago
BEGIN:STANDARD
TZNAME:CST
DTSTART:20241103T020000
TZOFFSETFROM:-0500
TZOFFSETTO:-0600
RDATE:20251102T020000
END:STANDARD
BEGIN:DAYLIGHT
TZNAME:CDT
DTSTART:20250309T020000
TZOFFSETFROM:-0600
TZOFFSETTO:-0500
RDATE:20260308T020000
END:DAYLIGHT
END:VTIMEZONE
BEGIN:VEVENT
UID:fd8b1a43-c64b-4e04-af4d-175357e5aaff
DTSTAMP:20260423T072805Z
DESCRIPTION:ARTS & CRAFTS-\nDoTerra\n\nSleep Challenge Oil\n@10:00 AM\n\nSO
 CIAL/TxSMP\nResident Luncheon\n@ 11:00AM
DTSTART;TZID=America/Chicago:20250411T100000
DTEND;TZID=America/Chicago:20250411T120000
LOCATION:1830 Hollyoak Dr\, Houston\, TX 77084 US
SUMMARY:Hollyoak: Arts & Crafts\, Social
END:VEVENT
END:VCALENDAR
