BEGIN:VCALENDAR
VERSION:2.0
PRODID:-//empowercdc.org//NONSGML kigkonsult.se iCalcreator 2.30.10//
CALSCALE:GREGORIAN
METHOD:PUBLISH
UID:9a410395-1715-4236-bfe8-6950e4d30134
X-WR-CALDESC:SOCIAL-Empower\nApril Showers\nBirthday Social\n@ 2:00PM\n\nOU
 TREACH &\nNUTRITION- Project\nCanvas\nCollege Readiness 101\n@ 3:00PM
X-WR-RELCALID:2b2026cf782cef8433db2dbafff8e795
X-WR-TIMEZONE:America/Chicago
BEGIN:VTIMEZONE
TZID:America/Chicago
BEGIN:STANDARD
TZNAME:CST
DTSTART:20241103T020000
TZOFFSETFROM:-0500
TZOFFSETTO:-0600
RDATE:20251102T020000
END:STANDARD
BEGIN:DAYLIGHT
TZNAME:CDT
DTSTART:20250309T020000
TZOFFSETFROM:-0600
TZOFFSETTO:-0500
RDATE:20260308T020000
END:DAYLIGHT
END:VTIMEZONE
BEGIN:VEVENT
UID:bcd4b245-2b3c-41d3-8d9b-af5742abfb70
DTSTAMP:20260423T073116Z
DESCRIPTION:SOCIAL-Empower\nApril Showers\nBirthday Social\n@ 2:00PM\n\nOUT
 REACH &\nNUTRITION- Project\nCanvas\nCollege Readiness 101\n@ 3:00PM
DTSTART;TZID=America/Chicago:20250410T140000
DTEND;TZID=America/Chicago:20250410T160000
LOCATION:325 Flagship Boulevard\, Montgomery\, TX 77316 US
SUMMARY:The Heritage: Social\, Outreach & Nutrition
END:VEVENT
END:VCALENDAR
