BEGIN:VCALENDAR
VERSION:2.0
PRODID:-//empowercdc.org//NONSGML kigkonsult.se iCalcreator 2.30.10//
CALSCALE:GREGORIAN
METHOD:PUBLISH
UID:40d07e28-2e4c-461b-a3e6-06fea4f820a4
X-WR-CALDESC:EXERCISE\nGROUP EXERCISE\nWORKOUT\n@10AM\n\nSOCIAL\nARIES/ TAU
 RUA BIRTHDAY\n@11AM\n\nSENIOR LITERACY 101\nINTRO TO EMAIL\n\n*Resident on
 ly event*
X-WR-RELCALID:092c82a5dfd1519c230a2d4ade61f2d2
X-WR-TIMEZONE:America/Chicago
BEGIN:VTIMEZONE
TZID:America/Chicago
BEGIN:STANDARD
TZNAME:CST
DTSTART:20241103T020000
TZOFFSETFROM:-0500
TZOFFSETTO:-0600
RDATE:20251102T020000
END:STANDARD
BEGIN:DAYLIGHT
TZNAME:CDT
DTSTART:20250309T020000
TZOFFSETFROM:-0600
TZOFFSETTO:-0500
RDATE:20260308T020000
END:DAYLIGHT
END:VTIMEZONE
BEGIN:VEVENT
UID:f5f074e4-4574-4f5e-9069-dfc23bd0227e
DTSTAMP:20260423T072419Z
DESCRIPTION:EXERCISE\nGROUP EXERCISE\nWORKOUT\n@10AM\n\nSOCIAL\nARIES/ TAUR
 UA BIRTHDAY\n@11AM\n\nSENIOR LITERACY 101\nINTRO TO EMAIL\n\n*Resident onl
 y event*
DTSTART;TZID=America/Chicago:20250410T100000
DTEND;TZID=America/Chicago:20250410T110000
LOCATION:1717 FM359\, Richmond\, TX 77406 US
SUMMARY:Jones Creek: Exercise
END:VEVENT
END:VCALENDAR
