BEGIN:VCALENDAR
VERSION:2.0
PRODID:-//empowercdc.org//NONSGML kigkonsult.se iCalcreator 2.30.10//
CALSCALE:GREGORIAN
METHOD:PUBLISH
UID:24d7aa68-1c4a-405d-a112-733e372e8d60
X-WR-CALDESC:EXERCISE\nLINE DANCE\n@2PM\n\nSOCIAL\nARIES/TAURUS\nBIRTHDAY\n
 @3PM\n\n*Resident only event*
X-WR-RELCALID:648bdbb9329be5d668a7d22e3428c53f
X-WR-TIMEZONE:America/Chicago
BEGIN:VTIMEZONE
TZID:America/Chicago
BEGIN:STANDARD
TZNAME:CST
DTSTART:20241103T020000
TZOFFSETFROM:-0500
TZOFFSETTO:-0600
RDATE:20251102T020000
END:STANDARD
BEGIN:DAYLIGHT
TZNAME:CDT
DTSTART:20250309T020000
TZOFFSETFROM:-0600
TZOFFSETTO:-0500
RDATE:20260308T020000
END:DAYLIGHT
END:VTIMEZONE
BEGIN:VEVENT
UID:6ae0a1b8-2c4e-4f22-8be2-a5656c8f8fa3
DTSTAMP:20260423T072424Z
DESCRIPTION:EXERCISE\nLINE DANCE\n@2PM\n\nSOCIAL\nARIES/TAURUS\nBIRTHDAY\n@
 3PM\n\n*Resident only event*
DTSTART;TZID=America/Chicago:20250407T140000
DTEND;TZID=America/Chicago:20250407T160000
LOCATION:1620 Spencer Hwy\, South Houston\, TX 77587 US
SUMMARY:Windsor Gardens: Exercise\, Social
END:VEVENT
END:VCALENDAR
