BEGIN:VCALENDAR
VERSION:2.0
PRODID:-//empowercdc.org//NONSGML kigkonsult.se iCalcreator 2.30.10//
CALSCALE:GREGORIAN
METHOD:PUBLISH
UID:5a7fead7-4a08-4e12-9cb7-ff00f5a88a48
X-WR-CALDESC:EXERCISE Empower\nTai Chi\n@ 3:00 PM\n\nHealth & Nutrition\nFr
 uit Bash\n@ 4:00 PM\n\n*Resident only event*
X-WR-RELCALID:b1f2993602c93897f4de3d71a233815d
X-WR-TIMEZONE:America/Chicago
BEGIN:VTIMEZONE
TZID:America/Chicago
BEGIN:STANDARD
TZNAME:CST
DTSTART:20241103T020000
TZOFFSETFROM:-0500
TZOFFSETTO:-0600
RDATE:20251102T020000
END:STANDARD
BEGIN:DAYLIGHT
TZNAME:CDT
DTSTART:20250309T020000
TZOFFSETFROM:-0600
TZOFFSETTO:-0500
RDATE:20260308T020000
END:DAYLIGHT
END:VTIMEZONE
BEGIN:VEVENT
UID:1a2203eb-1c29-4d7e-b6d2-fec89bbfa9e1
DTSTAMP:20260423T072829Z
DESCRIPTION:EXERCISE Empower\nTai Chi\n@ 3:00 PM\n\nHealth & Nutrition\nFru
 it Bash\n@ 4:00 PM\n\n*Resident only event*
DTSTART;TZID=America/Chicago:20250407T150000
DTEND;TZID=America/Chicago:20250407T170000
LOCATION:12353 Huffmeister Rd\, Cypress\, TX 77429 US
SUMMARY:The Meadows: Exercise\, Health & Nutrition
END:VEVENT
END:VCALENDAR
