BEGIN:VCALENDAR
VERSION:2.0
PRODID:-//empowercdc.org//NONSGML kigkonsult.se iCalcreator 2.30.10//
CALSCALE:GREGORIAN
METHOD:PUBLISH
UID:3dcdcffa-cc33-4629-8c08-74e38a203e58
X-WR-CALDESC:CHARACTER BUILDING/\nTxSMP-Empower\nCharity/TxSMP\n@ 1:00PM
X-WR-RELCALID:101b33434dadcb8f33eb323c8f025ffc
X-WR-TIMEZONE:America/Chicago
BEGIN:VTIMEZONE
TZID:America/Chicago
BEGIN:STANDARD
TZNAME:CST
DTSTART:20241103T020000
TZOFFSETFROM:-0500
TZOFFSETTO:-0600
RDATE:20251102T020000
END:STANDARD
BEGIN:DAYLIGHT
TZNAME:CDT
DTSTART:20250309T020000
TZOFFSETFROM:-0600
TZOFFSETTO:-0500
RDATE:20260308T020000
END:DAYLIGHT
END:VTIMEZONE
BEGIN:VEVENT
UID:0eea88bb-d252-47cc-96f7-9ea15bc88bf0
DTSTAMP:20260423T072710Z
DESCRIPTION:CHARACTER BUILDING/\nTxSMP-Empower\nCharity/TxSMP\n@ 1:00PM
DTSTART;TZID=America/Chicago:20250407T130000
DTEND;TZID=America/Chicago:20250407T150000
LOCATION:325 Flagship Boulevard\, Montgomery\, TX 77316 US
SUMMARY:The Heritage: Character Building\, TX SMP
END:VEVENT
END:VCALENDAR
