BEGIN:VCALENDAR
VERSION:2.0
PRODID:-//empowercdc.org//NONSGML kigkonsult.se iCalcreator 2.30.10//
CALSCALE:GREGORIAN
METHOD:PUBLISH
UID:5e76864b-41d0-447c-9c5d-db720a33a133
X-WR-CALDESC:HEALTH & NUTRITION/TxSMP-\nEmpower\n\nLunch Salad Bar\n@10:30A
 M\n\n***REGISTRATION\nREQUIRED***
X-WR-RELCALID:f5224cac4f5107db554ecba457c4f2dc
X-WR-TIMEZONE:America/Chicago
BEGIN:VTIMEZONE
TZID:America/Chicago
BEGIN:STANDARD
TZNAME:CST
DTSTART:20241103T020000
TZOFFSETFROM:-0500
TZOFFSETTO:-0600
RDATE:20251102T020000
END:STANDARD
BEGIN:DAYLIGHT
TZNAME:CDT
DTSTART:20250309T020000
TZOFFSETFROM:-0600
TZOFFSETTO:-0500
RDATE:20260308T020000
END:DAYLIGHT
END:VTIMEZONE
BEGIN:VEVENT
UID:158923b4-861c-4bb5-8243-b5c84c1d93dd
DTSTAMP:20260423T072958Z
DESCRIPTION:HEALTH & NUTRITION/TxSMP-\nEmpower\n\nLunch Salad Bar\n@10:30AM
 \n\n***REGISTRATION\nREQUIRED***
DTSTART;TZID=America/Chicago:20250407T103000
DTEND;TZID=America/Chicago:20250407T120000
LOCATION:219 Flagship Blvd\, Montgomery\, TX 77316 US
SUMMARY:The Heritage 55+: Health & Nutrition
END:VEVENT
END:VCALENDAR
