BEGIN:VCALENDAR
VERSION:2.0
PRODID:-//empowercdc.org//NONSGML kigkonsult.se iCalcreator 2.30.10//
CALSCALE:GREGORIAN
METHOD:PUBLISH
UID:121899dd-295b-4c84-ae91-26e4059c3caf
X-WR-CALDESC:ARTS & CRAFTS\nDIAMOND ART\nMAGNETS\n@11AM\n\nSOCIAL\nARIES/ T
 AURUA BIRTHDAY\n@11AM\n\nSENIOR LITERACY 101\nINTRO TO EMAIL\n\n*Resident 
 only event*
X-WR-RELCALID:b8cf1a1557927a9bd5ec04d80534b6c1
X-WR-TIMEZONE:America/Chicago
BEGIN:VTIMEZONE
TZID:America/Chicago
BEGIN:STANDARD
TZNAME:CST
DTSTART:20241103T020000
TZOFFSETFROM:-0500
TZOFFSETTO:-0600
RDATE:20251102T020000
END:STANDARD
BEGIN:DAYLIGHT
TZNAME:CDT
DTSTART:20250309T020000
TZOFFSETFROM:-0600
TZOFFSETTO:-0500
RDATE:20260308T020000
END:DAYLIGHT
END:VTIMEZONE
BEGIN:VEVENT
UID:1dd4759d-808f-46cb-9f37-bd4ac48d0bd6
DTSTAMP:20260423T072711Z
DESCRIPTION:ARTS & CRAFTS\nDIAMOND ART\nMAGNETS\n@11AM\n\nSOCIAL\nARIES/ TA
 URUA BIRTHDAY\n@11AM\n\nSENIOR LITERACY 101\nINTRO TO EMAIL\n\n*Resident o
 nly event*
DTSTART;TZID=America/Chicago:20250407T110000
DTEND;TZID=America/Chicago:20250407T120000
LOCATION:1717 FM359\, Richmond\, TX 77406 US
SUMMARY:Jones Creek: Arts & Crafts
END:VEVENT
END:VCALENDAR
