BEGIN:VCALENDAR
VERSION:2.0
PRODID:-//empowercdc.org//NONSGML kigkonsult.se iCalcreator 2.30.10//
CALSCALE:GREGORIAN
METHOD:PUBLISH
UID:492ea3c6-4806-4783-b4e5-6713783ec4b2
X-WR-CALDESC:EXERCISE\nLINE DANCE\n@3PM\n\n*Resident only event*
X-WR-RELCALID:678afca50dbb48084b3a00172657c369
X-WR-TIMEZONE:America/Chicago
BEGIN:VTIMEZONE
TZID:America/Chicago
BEGIN:STANDARD
TZNAME:CST
DTSTART:20241103T020000
TZOFFSETFROM:-0500
TZOFFSETTO:-0600
RDATE:20251102T020000
END:STANDARD
BEGIN:DAYLIGHT
TZNAME:CDT
DTSTART:20250309T020000
TZOFFSETFROM:-0600
TZOFFSETTO:-0500
RDATE:20260308T020000
END:DAYLIGHT
END:VTIMEZONE
BEGIN:VEVENT
UID:528ed984-0185-4376-b777-7eb97d909e72
DTSTAMP:20260423T072207Z
DESCRIPTION:EXERCISE\nLINE DANCE\n@3PM\n\n*Resident only event*
DTSTART;TZID=America/Chicago:20250403T150000
DTEND;TZID=America/Chicago:20250403T160000
LOCATION:1620 Spencer Hwy\, South Houston\, TX 77587 US
SUMMARY:Windsor Gardens: Exercise
END:VEVENT
END:VCALENDAR
