BEGIN:VCALENDAR
VERSION:2.0
PRODID:-//empowercdc.org//NONSGML kigkonsult.se iCalcreator 2.30.10//
CALSCALE:GREGORIAN
METHOD:PUBLISH
UID:96285c43-4294-49e5-a2b5-405aa3c6450d
X-WR-CALDESC:EXERCISE\nGROUP EXERCISE\nWORKOUT\n@10AM\n\nSOCIAL\nARIES/ TAU
 RUA BIRTHDAY\n@11AM\n\nSENIOR LITERACY 101\nINTRO TO EMAIL\n\n*Resident on
 ly event*
X-WR-RELCALID:09176398bcfeb2559189831deabbd1aa
X-WR-TIMEZONE:America/Chicago
BEGIN:VTIMEZONE
TZID:America/Chicago
BEGIN:STANDARD
TZNAME:CST
DTSTART:20241103T020000
TZOFFSETFROM:-0500
TZOFFSETTO:-0600
RDATE:20251102T020000
END:STANDARD
BEGIN:DAYLIGHT
TZNAME:CDT
DTSTART:20250309T020000
TZOFFSETFROM:-0600
TZOFFSETTO:-0500
RDATE:20260308T020000
END:DAYLIGHT
END:VTIMEZONE
BEGIN:VEVENT
UID:072a1b2d-cc5c-4da8-a8ef-e2d12590ed09
DTSTAMP:20260423T072957Z
DESCRIPTION:EXERCISE\nGROUP EXERCISE\nWORKOUT\n@10AM\n\nSOCIAL\nARIES/ TAUR
 UA BIRTHDAY\n@11AM\n\nSENIOR LITERACY 101\nINTRO TO EMAIL\n\n*Resident onl
 y event*
DTSTART;TZID=America/Chicago:20250403T100000
DTEND;TZID=America/Chicago:20250403T120000
LOCATION:1717 FM359\, Richmond\, TX 77406 US
SUMMARY:Jones Creek: Exercise\, Social\, Senior Literacy
END:VEVENT
END:VCALENDAR
