BEGIN:VCALENDAR
VERSION:2.0
PRODID:-//empowercdc.org//NONSGML kigkonsult.se iCalcreator 2.30.10//
CALSCALE:GREGORIAN
METHOD:PUBLISH
UID:aaabdae1-87db-485a-a560-fcb1c68633b2
X-WR-CALDESC:SOCIAL-Texans Benefit\nBirthday Social\n@ 11:30AM\n\nEXERCISE-
  BONA\nSuper Senior Fitness\n@1:00PM
X-WR-RELCALID:2016ecefb1b93366cd401f1347b69bbb
X-WR-TIMEZONE:America/Chicago
BEGIN:VTIMEZONE
TZID:America/Chicago
BEGIN:STANDARD
TZNAME:CST
DTSTART:20241103T020000
TZOFFSETFROM:-0500
TZOFFSETTO:-0600
RDATE:20251102T020000
END:STANDARD
BEGIN:DAYLIGHT
TZNAME:CDT
DTSTART:20250309T020000
TZOFFSETFROM:-0600
TZOFFSETTO:-0500
RDATE:20260308T020000
END:DAYLIGHT
END:VTIMEZONE
BEGIN:VEVENT
UID:de989457-8231-4e7e-bf70-d164ec8aa816
DTSTAMP:20260423T072502Z
DESCRIPTION:SOCIAL-Texans Benefit\nBirthday Social\n@ 11:30AM\n\nEXERCISE- 
 BONA\nSuper Senior Fitness\n@1:00PM
DTSTART;TZID=America/Chicago:20250403T113000
DTEND;TZID=America/Chicago:20250403T140000
LOCATION:1830 Hollyoak Dr\, Houston\, TX 77084 US
SUMMARY:Hollyoak: Social\, Exercise
END:VEVENT
END:VCALENDAR
