BEGIN:VCALENDAR
VERSION:2.0
PRODID:-//empowercdc.org//NONSGML kigkonsult.se iCalcreator 2.30.10//
CALSCALE:GREGORIAN
METHOD:PUBLISH
UID:49f420e4-a2ee-4c35-99d4-737314c118dd
X-WR-CALDESC:ARTS & CRAFTS\nSALT PICTURE ART\n@3PM\n\n*Resident only event*
X-WR-RELCALID:67d7d2f5f527cb21261cb81f668602c7
X-WR-TIMEZONE:America/Chicago
BEGIN:VTIMEZONE
TZID:America/Chicago
BEGIN:STANDARD
TZNAME:CST
DTSTART:20241103T020000
TZOFFSETFROM:-0500
TZOFFSETTO:-0600
RDATE:20251102T020000
END:STANDARD
BEGIN:DAYLIGHT
TZNAME:CDT
DTSTART:20250309T020000
TZOFFSETFROM:-0600
TZOFFSETTO:-0500
RDATE:20260308T020000
END:DAYLIGHT
END:VTIMEZONE
BEGIN:VEVENT
UID:d52b364d-dedf-46e5-a26c-ab0ae5181e64
DTSTAMP:20260423T054611Z
DESCRIPTION:ARTS & CRAFTS\nSALT PICTURE ART\n@3PM\n\n*Resident only event*
DTSTART;TZID=America/Chicago:20250331T150000
DTEND;TZID=America/Chicago:20250331T160000
LOCATION:1620 Spencer Hwy\, South Houston\, TX 77587 US
SUMMARY:Windsor Gardens: Arts & Crafts
END:VEVENT
END:VCALENDAR
