BEGIN:VCALENDAR
VERSION:2.0
PRODID:-//empowercdc.org//NONSGML kigkonsult.se iCalcreator 2.30.10//
CALSCALE:GREGORIAN
METHOD:PUBLISH
UID:63be0e23-55bf-4636-bfa7-42de486cadf8
X-WR-CALDESC:HEALTH FAIR\n@11AM\n\n*Resident only event*
X-WR-RELCALID:d6688ac84a63412b9e5b6bbf0644ea1a
X-WR-TIMEZONE:America/Chicago
BEGIN:VTIMEZONE
TZID:America/Chicago
BEGIN:STANDARD
TZNAME:CST
DTSTART:20241103T020000
TZOFFSETFROM:-0500
TZOFFSETTO:-0600
RDATE:20251102T020000
END:STANDARD
BEGIN:DAYLIGHT
TZNAME:CDT
DTSTART:20250309T020000
TZOFFSETFROM:-0600
TZOFFSETTO:-0500
RDATE:20260308T020000
END:DAYLIGHT
END:VTIMEZONE
BEGIN:VEVENT
UID:71f90d42-3b21-47c5-a034-3f4b51edc606
DTSTAMP:20260423T055121Z
DESCRIPTION:HEALTH FAIR\n@11AM\n\n*Resident only event*
DTSTART;TZID=America/Chicago:20250331T110000
DTEND;TZID=America/Chicago:20250331T120000
LOCATION:1717 FM359\, Richmond\, TX 77406 US
SUMMARY:Jones Creek: Health Fair
END:VEVENT
END:VCALENDAR
