BEGIN:VCALENDAR
VERSION:2.0
PRODID:-//empowercdc.org//NONSGML kigkonsult.se iCalcreator 2.30.10//
CALSCALE:GREGORIAN
METHOD:PUBLISH
UID:72f1578a-b3f5-44e0-a705-64f8adca3264
X-WR-CALDESC:ARTS & CRAFTS - Empower\nBracelets\n@ 3:00 PM\n\n*Resident onl
 y event*
X-WR-RELCALID:3a385ce180c697042cc797ab6ccd4b98
X-WR-TIMEZONE:America/Chicago
BEGIN:VTIMEZONE
TZID:America/Chicago
BEGIN:STANDARD
TZNAME:CST
DTSTART:20241103T020000
TZOFFSETFROM:-0500
TZOFFSETTO:-0600
RDATE:20251102T020000
END:STANDARD
BEGIN:DAYLIGHT
TZNAME:CDT
DTSTART:20250309T020000
TZOFFSETFROM:-0600
TZOFFSETTO:-0500
RDATE:20260308T020000
END:DAYLIGHT
END:VTIMEZONE
BEGIN:VEVENT
UID:3a594eeb-1817-47ef-9567-30bdbf71802c
DTSTAMP:20260423T054707Z
DESCRIPTION:ARTS & CRAFTS - Empower\nBracelets\n@ 3:00 PM\n\n*Resident only
  event*
DTSTART;TZID=America/Chicago:20250328T150000
DTEND;TZID=America/Chicago:20250328T160000
LOCATION:12353 Huffmeister Rd\, Cypress\, TX 77429 US
SUMMARY:The Meadows: Arts & Crafts
END:VEVENT
END:VCALENDAR
