BEGIN:VCALENDAR
VERSION:2.0
PRODID:-//empowercdc.org//NONSGML kigkonsult.se iCalcreator 2.30.10//
CALSCALE:GREGORIAN
METHOD:PUBLISH
UID:d60fd80e-1f15-4a3f-9561-289c7147d563
X-WR-CALDESC:EXERCISE\nCHAIR EXERCISE\n@11AM
X-WR-RELCALID:12726f3072f4576424d7bb04b761f423
X-WR-TIMEZONE:America/Chicago
BEGIN:VTIMEZONE
TZID:America/Chicago
BEGIN:STANDARD
TZNAME:CST
DTSTART:20241103T020000
TZOFFSETFROM:-0500
TZOFFSETTO:-0600
RDATE:20251102T020000
END:STANDARD
BEGIN:DAYLIGHT
TZNAME:CDT
DTSTART:20250309T020000
TZOFFSETFROM:-0600
TZOFFSETTO:-0500
RDATE:20260308T020000
END:DAYLIGHT
END:VTIMEZONE
BEGIN:VEVENT
UID:0b62e510-26e6-4747-b28a-9b480150d5e8
DTSTAMP:20260423T055146Z
DESCRIPTION:EXERCISE\nCHAIR EXERCISE\n@11AM
DTSTART;TZID=America/Chicago:20250328T100000
DTEND;TZID=America/Chicago:20250328T120000
LOCATION:15707 Kuykendahl Ct\, Conroe\, TX 77384 US
SUMMARY:Kuykendalh Court: Arts & Crafts\, Exercise
END:VEVENT
END:VCALENDAR
