BEGIN:VCALENDAR
VERSION:2.0
PRODID:-//empowercdc.org//NONSGML kigkonsult.se iCalcreator 2.30.10//
CALSCALE:GREGORIAN
METHOD:PUBLISH
UID:6bfe5f08-9a26-4a96-85a9-a66b3a161f8d
X-WR-CALDESC:HEALTH FAIR\n@4PM\n\n*Resident only event*
X-WR-RELCALID:3f551a0af932f6a8e7e32329962f392b
X-WR-TIMEZONE:America/Chicago
BEGIN:VTIMEZONE
TZID:America/Chicago
BEGIN:STANDARD
TZNAME:CST
DTSTART:20241103T020000
TZOFFSETFROM:-0500
TZOFFSETTO:-0600
RDATE:20251102T020000
END:STANDARD
BEGIN:DAYLIGHT
TZNAME:CDT
DTSTART:20250309T020000
TZOFFSETFROM:-0600
TZOFFSETTO:-0500
RDATE:20260308T020000
END:DAYLIGHT
END:VTIMEZONE
BEGIN:VEVENT
UID:9ceb9946-9aeb-44c3-a2eb-4ed6e3cedc59
DTSTAMP:20260423T055030Z
DESCRIPTION:HEALTH FAIR\n@4PM\n\n*Resident only event*
DTSTART;TZID=America/Chicago:20250327T160000
DTEND;TZID=America/Chicago:20250327T170000
LOCATION:1620 Spencer Hwy\, South Houston\, TX 77587 US
SUMMARY:Windsor Gardens: Health Fair
END:VEVENT
END:VCALENDAR
