BEGIN:VCALENDAR
VERSION:2.0
PRODID:-//empowercdc.org//NONSGML kigkonsult.se iCalcreator 2.30.10//
CALSCALE:GREGORIAN
METHOD:PUBLISH
UID:35ba9a49-7beb-4e8a-b0f3-08e84c0e50ca
X-WR-CALDESC:HEALTH & NUTRITION-\nSuvida\nBingo Bonanza\n@ 12:00PM
X-WR-RELCALID:738bb5bb94a1270019de81bfb84eca5c
X-WR-TIMEZONE:America/Chicago
BEGIN:VTIMEZONE
TZID:America/Chicago
BEGIN:STANDARD
TZNAME:CST
DTSTART:20241103T020000
TZOFFSETFROM:-0500
TZOFFSETTO:-0600
RDATE:20251102T020000
END:STANDARD
BEGIN:DAYLIGHT
TZNAME:CDT
DTSTART:20250309T020000
TZOFFSETFROM:-0600
TZOFFSETTO:-0500
RDATE:20260308T020000
END:DAYLIGHT
END:VTIMEZONE
BEGIN:VEVENT
UID:7f46f90b-ea63-4c0d-8a2b-dac48b0a4df0
DTSTAMP:20260422T180423Z
DESCRIPTION:HEALTH & NUTRITION-\nSuvida\nBingo Bonanza\n@ 12:00PM
DTSTART;TZID=America/Chicago:20250327T120000
DTEND;TZID=America/Chicago:20250327T130000
LOCATION:1830 Hollyoak Dr\, Houston\, TX 77084 US
SUMMARY:Hollyoak: Health & Nutrition
END:VEVENT
END:VCALENDAR
