BEGIN:VCALENDAR
VERSION:2.0
PRODID:-//empowercdc.org//NONSGML kigkonsult.se iCalcreator 2.30.10//
CALSCALE:GREGORIAN
METHOD:PUBLISH
UID:c82eb1ec-7764-4559-b62f-3e17b884be99
X-WR-CALDESC:Exercise\nChair Exercise\n@10AM\n\n\nSOCIAL\nWomen’s Month\n@1
 1AM\n\nSenior Literacy\nWorkshop 101\nSetting up an Email Account\n@12PM
X-WR-RELCALID:9c27b3c6264747a4671e9c89545a8061
X-WR-TIMEZONE:America/Chicago
BEGIN:VTIMEZONE
TZID:America/Chicago
BEGIN:STANDARD
TZNAME:CST
DTSTART:20241103T020000
TZOFFSETFROM:-0500
TZOFFSETTO:-0600
RDATE:20251102T020000
END:STANDARD
BEGIN:DAYLIGHT
TZNAME:CDT
DTSTART:20250309T020000
TZOFFSETFROM:-0600
TZOFFSETTO:-0500
RDATE:20260308T020000
END:DAYLIGHT
END:VTIMEZONE
BEGIN:VEVENT
UID:377648ed-c1bc-4a28-b6db-8e3bfa2aaef8
DTSTAMP:20260423T055317Z
DESCRIPTION:Exercise\nChair Exercise\n@10AM\n\n\nSOCIAL\nWomen’s Month\n@11
 AM\n\nSenior Literacy\nWorkshop 101\nSetting up an Email Account\n@12PM
DTSTART;TZID=America/Chicago:20250325T110000
DTEND;TZID=America/Chicago:20250325T130000
LOCATION:15707 Kuykendahl Ct\, Conroe\, TX 77384 US
SUMMARY:Kuykendalh Court: Exercise \,Women's Month\, Workshop 101
END:VEVENT
END:VCALENDAR
