BEGIN:VCALENDAR
VERSION:2.0
PRODID:-//empowercdc.org//NONSGML kigkonsult.se iCalcreator 2.30.10//
CALSCALE:GREGORIAN
METHOD:PUBLISH
UID:1deb3c15-11ee-4a71-963d-69fe41e4e968
X-WR-CALDESC:EXERCISE- Empower\nSit and Be Fit/TxSMP\n@10:00AM\n\nSetting u
 p an Email Account\n@ 11:00AM
X-WR-RELCALID:e73375d6816a9d12b19e12331ba6b721
X-WR-TIMEZONE:America/Chicago
BEGIN:VTIMEZONE
TZID:America/Chicago
BEGIN:STANDARD
TZNAME:CST
DTSTART:20241103T020000
TZOFFSETFROM:-0500
TZOFFSETTO:-0600
RDATE:20251102T020000
END:STANDARD
BEGIN:DAYLIGHT
TZNAME:CDT
DTSTART:20250309T020000
TZOFFSETFROM:-0600
TZOFFSETTO:-0500
RDATE:20260308T020000
END:DAYLIGHT
END:VTIMEZONE
BEGIN:VEVENT
UID:92fdb50e-1f7a-4013-96bf-3684eb004ae5
DTSTAMP:20260423T054320Z
DESCRIPTION:EXERCISE- Empower\nSit and Be Fit/TxSMP\n@10:00AM\n\nSetting up
  an Email Account\n@ 11:00AM
DTSTART;TZID=America/Chicago:20250325T100000
DTEND;TZID=America/Chicago:20250325T120000
LOCATION:1830 Hollyoak Dr\, Houston\, TX 77084 US
SUMMARY:Hollyoak: Exercise
END:VEVENT
END:VCALENDAR
