BEGIN:VCALENDAR
VERSION:2.0
PRODID:-//empowercdc.org//NONSGML kigkonsult.se iCalcreator 2.30.10//
CALSCALE:GREGORIAN
METHOD:PUBLISH
UID:b55fd853-622c-47b1-9ca7-a9e943495832
X-WR-CALDESC:FOOD PANTRY/TxSMP-\nEmpower\nFood Pantry\n@ 2:00PM
X-WR-RELCALID:c98d95a207fda2903066d2207d3fdbb7
X-WR-TIMEZONE:America/Chicago
BEGIN:VTIMEZONE
TZID:America/Chicago
BEGIN:STANDARD
TZNAME:CST
DTSTART:20241103T020000
TZOFFSETFROM:-0500
TZOFFSETTO:-0600
RDATE:20251102T020000
END:STANDARD
BEGIN:DAYLIGHT
TZNAME:CDT
DTSTART:20250309T020000
TZOFFSETFROM:-0600
TZOFFSETTO:-0500
RDATE:20260308T020000
END:DAYLIGHT
END:VTIMEZONE
BEGIN:VEVENT
UID:8da9a469-c144-4b43-9604-d43d38b603cc
DTSTAMP:20260423T055153Z
DESCRIPTION:FOOD PANTRY/TxSMP-\nEmpower\nFood Pantry\n@ 2:00PM
DTSTART;TZID=America/Chicago:20250320T140000
DTEND;TZID=America/Chicago:20250320T150000
LOCATION:325 Flagship Boulevard\, Montgomery\, TX 77316 US
SUMMARY:The Heritage: Food Pantry\, TxSMP
END:VEVENT
END:VCALENDAR
