BEGIN:VCALENDAR
VERSION:2.0
PRODID:-//empowercdc.org//NONSGML kigkonsult.se iCalcreator 2.30.10//
CALSCALE:GREGORIAN
METHOD:PUBLISH
UID:4ca33c9c-70c8-4f4b-b2e4-d6230e17fc17
X-WR-CALDESC:TxSMP-\nScam of the Month\n\n@11:00AM
X-WR-RELCALID:9ddccd5b9e1f67859b72d3024b70ddbc
X-WR-TIMEZONE:America/Chicago
BEGIN:VTIMEZONE
TZID:America/Chicago
BEGIN:STANDARD
TZNAME:CST
DTSTART:20241103T020000
TZOFFSETFROM:-0500
TZOFFSETTO:-0600
RDATE:20251102T020000
END:STANDARD
BEGIN:DAYLIGHT
TZNAME:CDT
DTSTART:20250309T020000
TZOFFSETFROM:-0600
TZOFFSETTO:-0500
RDATE:20260308T020000
END:DAYLIGHT
END:VTIMEZONE
BEGIN:VEVENT
UID:d86de6e1-fb19-48c6-8d39-2b5b856226b9
DTSTAMP:20260423T055408Z
DESCRIPTION:TxSMP-\nScam of the Month\n\n@11:00AM
DTSTART;TZID=America/Chicago:20250320T110000
DTEND;TZID=America/Chicago:20250320T120000
LOCATION:219 Flagship Blvd\, Montgomery\, TX 77316 US
SUMMARY:The Heritage 55+: TxSMP - Scam of the Month
END:VEVENT
END:VCALENDAR
