BEGIN:VCALENDAR
VERSION:2.0
PRODID:-//empowercdc.org//NONSGML kigkonsult.se iCalcreator 2.30.10//
CALSCALE:GREGORIAN
METHOD:PUBLISH
UID:652b9bda-c436-41af-808d-67fffc534dc1
X-WR-CALDESC:ARTS & CRAFTS - Empower\nBracelets\n@3:00 PM\n\n*Resident only
  event*
X-WR-RELCALID:faa3a487f4a6bf490c2d8876a5ef6d6a
X-WR-TIMEZONE:America/Chicago
BEGIN:VTIMEZONE
TZID:America/Chicago
BEGIN:STANDARD
TZNAME:CST
DTSTART:20241103T020000
TZOFFSETFROM:-0500
TZOFFSETTO:-0600
RDATE:20251102T020000
END:STANDARD
BEGIN:DAYLIGHT
TZNAME:CDT
DTSTART:20250309T020000
TZOFFSETFROM:-0600
TZOFFSETTO:-0500
RDATE:20260308T020000
END:DAYLIGHT
END:VTIMEZONE
BEGIN:VEVENT
UID:d1b5e435-4269-46ca-b0f0-da2011f53e20
DTSTAMP:20260423T054454Z
DESCRIPTION:ARTS & CRAFTS - Empower\nBracelets\n@3:00 PM\n\n*Resident only 
 event*
DTSTART;TZID=America/Chicago:20250320T150000
DTEND;TZID=America/Chicago:20250320T160000
LOCATION:6725 Brittmoore Road\, Houston\, TX 77041 US
SUMMARY:Brittmoore: Arts & Crafts
END:VEVENT
END:VCALENDAR
