BEGIN:VCALENDAR
VERSION:2.0
PRODID:-//empowercdc.org//NONSGML kigkonsult.se iCalcreator 2.30.10//
CALSCALE:GREGORIAN
METHOD:PUBLISH
UID:517f61e2-2e20-4f9a-af9e-78d25f0ae411
X-WR-CALDESC:Project Canvas - Empower\nProject Canvas\n@3:00 PM\n\nAnnual H
 ealth Fair - Empower\nHealth Fair\n@4:00 PM\n\n*Resident only event*
X-WR-RELCALID:bd77a2cc981e193c585150ea6f610893
X-WR-TIMEZONE:America/Chicago
BEGIN:VTIMEZONE
TZID:America/Chicago
BEGIN:STANDARD
TZNAME:CST
DTSTART:20241103T020000
TZOFFSETFROM:-0500
TZOFFSETTO:-0600
RDATE:20251102T020000
END:STANDARD
BEGIN:DAYLIGHT
TZNAME:CDT
DTSTART:20250309T020000
TZOFFSETFROM:-0600
TZOFFSETTO:-0500
RDATE:20260308T020000
END:DAYLIGHT
END:VTIMEZONE
BEGIN:VEVENT
UID:ee9b4e74-21d7-4bcb-9505-16c0c8548057
DTSTAMP:20260423T055001Z
DESCRIPTION:Project Canvas - Empower\nProject Canvas\n@3:00 PM\n\nAnnual He
 alth Fair - Empower\nHealth Fair\n@4:00 PM\n\n*Resident only event*
DTSTART;TZID=America/Chicago:20250318T150000
DTEND;TZID=America/Chicago:20250318T170000
LOCATION:6725 Brittmoore Road\, Houston\, TX 77041 US
SUMMARY:Brittmoore: Project Canvas\, Annual Health Fair
END:VEVENT
END:VCALENDAR
