BEGIN:VCALENDAR
VERSION:2.0
PRODID:-//empowercdc.org//NONSGML kigkonsult.se iCalcreator 2.30.10//
CALSCALE:GREGORIAN
METHOD:PUBLISH
UID:20061d03-cf18-4b64-b0d2-357e56adfbe7
X-WR-CALDESC:EXERCISE Empower\nTai Chi\n@ 3:00 PM\n\nSOCIAL Empower\nMental
  Health Social\n@ 4:00 PM\n\n*Resident only event*
X-WR-RELCALID:c38bab0a468f82ce9edecc2c10f46c0b
X-WR-TIMEZONE:America/Chicago
BEGIN:VTIMEZONE
TZID:America/Chicago
BEGIN:STANDARD
TZNAME:CST
DTSTART:20241103T020000
TZOFFSETFROM:-0500
TZOFFSETTO:-0600
RDATE:20251102T020000
END:STANDARD
BEGIN:DAYLIGHT
TZNAME:CDT
DTSTART:20250309T020000
TZOFFSETFROM:-0600
TZOFFSETTO:-0500
RDATE:20260308T020000
END:DAYLIGHT
END:VTIMEZONE
BEGIN:VEVENT
UID:068e7347-6079-48ca-a45f-5826b4667831
DTSTAMP:20260423T055147Z
DESCRIPTION:EXERCISE Empower\nTai Chi\n@ 3:00 PM\n\nSOCIAL Empower\nMental 
 Health Social\n@ 4:00 PM\n\n*Resident only event*
DTSTART;TZID=America/Chicago:20250317T150000
DTEND;TZID=America/Chicago:20250317T170000
LOCATION:12353 Huffmeister Rd\, Cypress\, TX 77429 US
SUMMARY:The Meadows: Exercise\, Mental Health Social
END:VEVENT
END:VCALENDAR
