BEGIN:VCALENDAR
VERSION:2.0
PRODID:-//empowercdc.org//NONSGML kigkonsult.se iCalcreator 2.30.10//
CALSCALE:GREGORIAN
METHOD:PUBLISH
UID:d504d020-f4a1-493b-a4dc-adfde2174408
X-WR-CALDESC:ARTS & CRAFTS-\nEmpower\nCanvas Art\n@1:00PM\n\nSOCIAL- Empowe
 r\nLucky Charms Social\n@2:00PM
X-WR-RELCALID:b3ac9676cf335225f5ce36c0696ac454
X-WR-TIMEZONE:America/Chicago
BEGIN:VTIMEZONE
TZID:America/Chicago
BEGIN:STANDARD
TZNAME:CST
DTSTART:20241103T020000
TZOFFSETFROM:-0500
TZOFFSETTO:-0600
RDATE:20251102T020000
END:STANDARD
BEGIN:DAYLIGHT
TZNAME:CDT
DTSTART:20250309T020000
TZOFFSETFROM:-0600
TZOFFSETTO:-0500
RDATE:20260308T020000
END:DAYLIGHT
END:VTIMEZONE
BEGIN:VEVENT
UID:9698d5ec-71d7-43e1-a4db-3d1da0b0502f
DTSTAMP:20260423T055030Z
DESCRIPTION:ARTS & CRAFTS-\nEmpower\nCanvas Art\n@1:00PM\n\nSOCIAL- Empower
 \nLucky Charms Social\n@2:00PM
DTSTART;TZID=America/Chicago:20250313T130000
DTEND;TZID=America/Chicago:20250313T150000
LOCATION:325 Flagship Boulevard\, Montgomery\, TX 77316 US
SUMMARY:The Heritage: Arts & Crafts\, Social
END:VEVENT
END:VCALENDAR
