BEGIN:VCALENDAR
VERSION:2.0
PRODID:-//empowercdc.org//NONSGML kigkonsult.se iCalcreator 2.30.10//
CALSCALE:GREGORIAN
METHOD:PUBLISH
UID:30a92a9e-ac2f-4f6f-aea6-58ef0c386c96
X-WR-CALDESC:ARTS & CRAFTS-\nEmpower\n\nCanvas Art\n@10:00AM
X-WR-RELCALID:c3e3adaad1910e9810a3a13317266640
X-WR-TIMEZONE:America/Chicago
BEGIN:VTIMEZONE
TZID:America/Chicago
BEGIN:STANDARD
TZNAME:CST
DTSTART:20241103T020000
TZOFFSETFROM:-0500
TZOFFSETTO:-0600
RDATE:20251102T020000
END:STANDARD
BEGIN:DAYLIGHT
TZNAME:CDT
DTSTART:20250309T020000
TZOFFSETFROM:-0600
TZOFFSETTO:-0500
RDATE:20260308T020000
END:DAYLIGHT
END:VTIMEZONE
BEGIN:VEVENT
UID:81d7d94a-d66b-485d-90ae-a7b8a1b498f3
DTSTAMP:20260423T054841Z
DESCRIPTION:ARTS & CRAFTS-\nEmpower\n\nCanvas Art\n@10:00AM
DTSTART;TZID=America/Chicago:20250313T100000
DTEND;TZID=America/Chicago:20250313T110000
LOCATION:219 Flagship Blvd\, Montgomery\, TX 77316 US
SUMMARY:The Heritage 55+: Arts & crafts
END:VEVENT
END:VCALENDAR
