BEGIN:VCALENDAR
VERSION:2.0
PRODID:-//empowercdc.org//NONSGML kigkonsult.se iCalcreator 2.30.10//
CALSCALE:GREGORIAN
METHOD:PUBLISH
UID:ed7bcfaa-5c82-4d9d-9db4-7ff10849c21f
X-WR-CALDESC:FOOD PANTRY\nTX SMP\n@1:00PM\n\n*Resident only event*
X-WR-RELCALID:ddf818e1f56f02f7710fe24edd3eca9a
X-WR-TIMEZONE:America/Chicago
BEGIN:VTIMEZONE
TZID:America/Chicago
BEGIN:STANDARD
TZNAME:CST
DTSTART:20241103T020000
TZOFFSETFROM:-0500
TZOFFSETTO:-0600
RDATE:20251102T020000
END:STANDARD
BEGIN:DAYLIGHT
TZNAME:CDT
DTSTART:20250309T020000
TZOFFSETFROM:-0600
TZOFFSETTO:-0500
RDATE:20260308T020000
END:DAYLIGHT
END:VTIMEZONE
BEGIN:VEVENT
UID:bbca83ad-cea6-4538-ac55-11fbd2719ff4
DTSTAMP:20260423T055122Z
DESCRIPTION:FOOD PANTRY\nTX SMP\n@1:00PM\n\n*Resident only event*
DTSTART;TZID=America/Chicago:20250311T130000
DTEND;TZID=America/Chicago:20250311T150000
LOCATION:1620 Spencer Hwy\, South Houston\, TX 77587 US
SUMMARY:Windsor Gardens: Food Pantry / TX SMP
END:VEVENT
END:VCALENDAR
