BEGIN:VCALENDAR
VERSION:2.0
PRODID:-//empowercdc.org//NONSGML kigkonsult.se iCalcreator 2.30.10//
CALSCALE:GREGORIAN
METHOD:PUBLISH
UID:787558a6-8c8c-48e7-9fcd-289fc77ccb46
X-WR-CALDESC:ARTS & CRAFTS\nCommunity Partner: Jeff Texans Benefits\n@2PM
X-WR-RELCALID:78c59c2f01d84e8ae5c28c838f79a952
X-WR-TIMEZONE:America/Chicago
BEGIN:VTIMEZONE
TZID:America/Chicago
BEGIN:STANDARD
TZNAME:CST
DTSTART:20241103T020000
TZOFFSETFROM:-0500
TZOFFSETTO:-0600
RDATE:20251102T020000
END:STANDARD
BEGIN:DAYLIGHT
TZNAME:CDT
DTSTART:20250309T020000
TZOFFSETFROM:-0600
TZOFFSETTO:-0500
RDATE:20260308T020000
END:DAYLIGHT
END:VTIMEZONE
BEGIN:VEVENT
UID:55829826-bc70-4724-ae13-864dd815976a
DTSTAMP:20260423T055214Z
DESCRIPTION:ARTS & CRAFTS\nCommunity Partner: Jeff Texans Benefits\n@2PM
DTSTART;TZID=America/Chicago:20250311T140000
DTEND;TZID=America/Chicago:20250311T150000
LOCATION:15707 Kuykendahl Ct\, Conroe\, TX 77384 US
SUMMARY:Kuykendalh Court: Arts & Crafts
END:VEVENT
END:VCALENDAR
