BEGIN:VCALENDAR
VERSION:2.0
PRODID:-//empowercdc.org//NONSGML kigkonsult.se iCalcreator 2.30.10//
CALSCALE:GREGORIAN
METHOD:PUBLISH
UID:7c071132-ecab-46e9-a492-d78681aa6d9e
X-WR-CALDESC:EXERCISE- Empower\nTai Chi/Employment\nServices Information\n@
 10:00AM
X-WR-RELCALID:93be50621cee160411f7e4d934011722
X-WR-TIMEZONE:America/Chicago
BEGIN:VTIMEZONE
TZID:America/Chicago
BEGIN:STANDARD
TZNAME:CST
DTSTART:20241103T020000
TZOFFSETFROM:-0500
TZOFFSETTO:-0600
RDATE:20251102T020000
END:STANDARD
BEGIN:DAYLIGHT
TZNAME:CDT
DTSTART:20250309T020000
TZOFFSETFROM:-0600
TZOFFSETTO:-0500
RDATE:20260308T020000
END:DAYLIGHT
END:VTIMEZONE
BEGIN:VEVENT
UID:810df3c7-6ef4-4cd3-b2b0-417e34d2d84b
DTSTAMP:20260423T054413Z
DESCRIPTION:EXERCISE- Empower\nTai Chi/Employment\nServices Information\n@1
 0:00AM
DTSTART;TZID=America/Chicago:20250311T100000
DTEND;TZID=America/Chicago:20250311T110000
LOCATION:1830 Hollyoak Dr\, Houston\, TX 77084 US
SUMMARY:Hollyoak: Exercise
END:VEVENT
END:VCALENDAR
