BEGIN:VCALENDAR
VERSION:2.0
PRODID:-//empowercdc.org//NONSGML kigkonsult.se iCalcreator 2.30.10//
CALSCALE:GREGORIAN
METHOD:PUBLISH
UID:fc93c535-b620-4b9d-89d0-113af7c63fcd
X-WR-CALDESC:SOCIAL\nLucky Charms Social\n@3PM\n\nEXERCISE\nLINE DANCE\n@4P
 M\n\n*Resident only event*
X-WR-RELCALID:ffe41b10c1e315ba0156ba949a38bb43
X-WR-TIMEZONE:America/Chicago
BEGIN:VTIMEZONE
TZID:America/Chicago
BEGIN:STANDARD
TZNAME:CST
DTSTART:20241103T020000
TZOFFSETFROM:-0500
TZOFFSETTO:-0600
RDATE:20251102T020000
END:STANDARD
BEGIN:DAYLIGHT
TZNAME:CDT
DTSTART:20240310T020000
TZOFFSETFROM:-0600
TZOFFSETTO:-0500
RDATE:20250309T020000
RDATE:20260308T020000
END:DAYLIGHT
END:VTIMEZONE
BEGIN:VEVENT
UID:805543c5-c175-438c-999d-6fe3f8abf7e5
DTSTAMP:20260423T055031Z
DESCRIPTION:SOCIAL\nLucky Charms Social\n@3PM\n\nEXERCISE\nLINE DANCE\n@4PM
 \n\n*Resident only event*
DTSTART;TZID=America/Chicago:20250310T150000
DTEND;TZID=America/Chicago:20250310T170000
LOCATION:1620 Spencer Hwy\, South Houston\, TX 77587 US
SUMMARY:Windsor Gardens: Lucky Charms Social
END:VEVENT
END:VCALENDAR
