BEGIN:VCALENDAR
VERSION:2.0
PRODID:-//empowercdc.org//NONSGML kigkonsult.se iCalcreator 2.30.10//
CALSCALE:GREGORIAN
METHOD:PUBLISH
UID:9871d501-45b5-40d7-9cb4-1d845f39658e
X-WR-CALDESC:ARTS & CRAFTS\nDIY LANTERNS/\n@10AM\n\nSenior Literacy\nWorksh
 op 101/TX SMP\nSetting up an Email\nAccount\n@11AM\n\n*Resident only event
 *
X-WR-RELCALID:13ea7a67df91607b75f1343d9819cc20
X-WR-TIMEZONE:America/Chicago
BEGIN:VTIMEZONE
TZID:America/Chicago
BEGIN:STANDARD
TZNAME:CST
DTSTART:20241103T020000
TZOFFSETFROM:-0500
TZOFFSETTO:-0600
RDATE:20251102T020000
END:STANDARD
BEGIN:DAYLIGHT
TZNAME:CDT
DTSTART:20240310T020000
TZOFFSETFROM:-0600
TZOFFSETTO:-0500
RDATE:20250309T020000
RDATE:20260308T020000
END:DAYLIGHT
END:VTIMEZONE
BEGIN:VEVENT
UID:5c3d2fec-898c-4c99-8d7f-32c4903ea8ac
DTSTAMP:20260423T055408Z
DESCRIPTION:ARTS & CRAFTS\nDIY LANTERNS/\n@10AM\n\nSenior Literacy\nWorksho
 p 101/TX SMP\nSetting up an Email\nAccount\n@11AM\n\n*Resident only event*
DTSTART;TZID=America/Chicago:20250310T100000
DTEND;TZID=America/Chicago:20250310T120000
LOCATION:1717 FM359\, Richmond\, TX 77406 US
SUMMARY:Jones Creek: Arts & Crafts\, Senior Literacy Workshop / TX SMP
END:VEVENT
END:VCALENDAR
