BEGIN:VCALENDAR
VERSION:2.0
PRODID:-//empowercdc.org//NONSGML kigkonsult.se iCalcreator 2.30.10//
CALSCALE:GREGORIAN
METHOD:PUBLISH
UID:31df3088-7fa4-4cbf-8fb3-4eb4982458bd
X-WR-CALDESC:CHARACTER BUILDING - Empower\nEncouraging Words\n@ 4:00 PM\n\n
 *Resident only event*
X-WR-RELCALID:9520f84d9d4630973e3c3e5e5e2b347e
X-WR-TIMEZONE:America/Chicago
BEGIN:VTIMEZONE
TZID:America/Chicago
BEGIN:STANDARD
TZNAME:CST
DTSTART:20241103T020000
TZOFFSETFROM:-0500
TZOFFSETTO:-0600
RDATE:20251102T020000
END:STANDARD
BEGIN:DAYLIGHT
TZNAME:CDT
DTSTART:20240310T020000
TZOFFSETFROM:-0600
TZOFFSETTO:-0500
RDATE:20250309T020000
RDATE:20260308T020000
END:DAYLIGHT
END:VTIMEZONE
BEGIN:VEVENT
UID:3e2a961b-39d5-4ddb-9768-b361995953a8
DTSTAMP:20260423T054534Z
DESCRIPTION:CHARACTER BUILDING - Empower\nEncouraging Words\n@ 4:00 PM\n\n*
 Resident only event*
DTSTART;TZID=America/Chicago:20250307T160000
DTEND;TZID=America/Chicago:20250307T170000
LOCATION:12353 Huffmeister Rd\, Cypress\, TX 77429 US
SUMMARY:The Meadows: Character Building
END:VEVENT
END:VCALENDAR
