BEGIN:VCALENDAR
VERSION:2.0
PRODID:-//empowercdc.org//NONSGML kigkonsult.se iCalcreator 2.30.10//
CALSCALE:GREGORIAN
METHOD:PUBLISH
UID:8e9bbec2-b955-4fec-8224-69ef99e2f5b6
X-WR-CALDESC:SOCIAL-Texans Benefit\nBirthday Social\n@ 11:30AM\n\nEXERCISE-
  BONA\nSuper Senior Fitness\n@1:00PM
X-WR-RELCALID:954a194d91759c65b6f40aa767da5563
X-WR-TIMEZONE:America/Chicago
BEGIN:VTIMEZONE
TZID:America/Chicago
BEGIN:STANDARD
TZNAME:CST
DTSTART:20241103T020000
TZOFFSETFROM:-0500
TZOFFSETTO:-0600
RDATE:20251102T020000
END:STANDARD
BEGIN:DAYLIGHT
TZNAME:CDT
DTSTART:20240310T020000
TZOFFSETFROM:-0600
TZOFFSETTO:-0500
RDATE:20250309T020000
RDATE:20260308T020000
END:DAYLIGHT
END:VTIMEZONE
BEGIN:VEVENT
UID:ccb18956-28bb-4e7b-b437-4f81e4bea6c3
DTSTAMP:20260423T054432Z
DESCRIPTION:SOCIAL-Texans Benefit\nBirthday Social\n@ 11:30AM\n\nEXERCISE- 
 BONA\nSuper Senior Fitness\n@1:00PM
DTSTART;TZID=America/Chicago:20250306T113000
DTEND;TZID=America/Chicago:20250306T140000
LOCATION:1830 Hollyoak Dr\, Houston\, TX 77084 US
SUMMARY:Hollyoak: Texans Benefit\, Exercise
END:VEVENT
END:VCALENDAR
