BEGIN:VCALENDAR
VERSION:2.0
PRODID:-//empowercdc.org//NONSGML kigkonsult.se iCalcreator 2.30.10//
CALSCALE:GREGORIAN
METHOD:PUBLISH
UID:24d43843-fddb-4feb-93ae-9a956294eef6
X-WR-CALDESC:ARTS & CRAFTS\nEmpower\nSt. Patrick’s Coloring\n@3:00 PM\n\n*R
 esident only event*
X-WR-RELCALID:549fe036d122cc820a004f5455682a76
X-WR-TIMEZONE:America/Chicago
BEGIN:VTIMEZONE
TZID:America/Chicago
BEGIN:STANDARD
TZNAME:CST
DTSTART:20241103T020000
TZOFFSETFROM:-0500
TZOFFSETTO:-0600
RDATE:20251102T020000
END:STANDARD
BEGIN:DAYLIGHT
TZNAME:CDT
DTSTART:20240310T020000
TZOFFSETFROM:-0600
TZOFFSETTO:-0500
RDATE:20250309T020000
RDATE:20260308T020000
END:DAYLIGHT
END:VTIMEZONE
BEGIN:VEVENT
UID:aa3ab91f-f032-41de-9b09-08ee10e4952b
DTSTAMP:20260423T054454Z
DESCRIPTION:ARTS & CRAFTS\nEmpower\nSt. Patrick’s Coloring\n@3:00 PM\n\n*Re
 sident only event*
DTSTART;TZID=America/Chicago:20250306T150000
DTEND;TZID=America/Chicago:20250306T160000
LOCATION:6725 Brittmoore Road\, Houston\, TX 77041 US
SUMMARY:Brittmoore: Arts & Crafts
END:VEVENT
END:VCALENDAR
