BEGIN:VCALENDAR
VERSION:2.0
PRODID:-//empowercdc.org//NONSGML kigkonsult.se iCalcreator 2.30.10//
CALSCALE:GREGORIAN
METHOD:PUBLISH
UID:d4bec141-42cb-433b-b1be-408d7a4a3963
X-WR-CALDESC:EXERCISE- Club 22\nFitness Workout\n@1:00PM
X-WR-RELCALID:22e99176f62ef7d3c7cc766c7f3b3ed6
X-WR-TIMEZONE:America/Chicago
BEGIN:VTIMEZONE
TZID:America/Chicago
BEGIN:STANDARD
TZNAME:CST
DTSTART:20241103T020000
TZOFFSETFROM:-0500
TZOFFSETTO:-0600
RDATE:20251102T020000
END:STANDARD
BEGIN:DAYLIGHT
TZNAME:CDT
DTSTART:20240310T020000
TZOFFSETFROM:-0600
TZOFFSETTO:-0500
RDATE:20250309T020000
RDATE:20260308T020000
END:DAYLIGHT
END:VTIMEZONE
BEGIN:VEVENT
UID:f34a9bde-bd11-4fb2-8ae8-258926180e47
DTSTAMP:20260423T054733Z
DESCRIPTION:EXERCISE- Club 22\nFitness Workout\n@1:00PM
DTSTART;TZID=America/Chicago:20250304T130000
DTEND;TZID=America/Chicago:20250304T140000
LOCATION:1830 Hollyoak Dr\, Houston\, TX 77084 US
SUMMARY:Hollyoak: Exercise (Club 22)
END:VEVENT
END:VCALENDAR
