BEGIN:VCALENDAR
VERSION:2.0
PRODID:-//empowercdc.org//NONSGML kigkonsult.se iCalcreator 2.30.10//
CALSCALE:GREGORIAN
METHOD:PUBLISH
UID:cdffc6c9-93fd-4098-bca3-76bd7c40752b
X-WR-CALDESC:EXERCISE\nCP- Texas A&M Agriculture\n@11AM
X-WR-RELCALID:4b4a129ed983c96ae3c78dde37348e6a
X-WR-TIMEZONE:America/Chicago
BEGIN:VTIMEZONE
TZID:America/Chicago
BEGIN:STANDARD
TZNAME:CST
DTSTART:20241103T020000
TZOFFSETFROM:-0500
TZOFFSETTO:-0600
RDATE:20251102T020000
END:STANDARD
BEGIN:DAYLIGHT
TZNAME:CDT
DTSTART:20240310T020000
TZOFFSETFROM:-0600
TZOFFSETTO:-0500
RDATE:20250309T020000
RDATE:20260308T020000
END:DAYLIGHT
END:VTIMEZONE
BEGIN:VEVENT
UID:de9abde4-42a2-4800-8e93-ae67036d70d9
DTSTAMP:20260423T042339Z
DESCRIPTION:EXERCISE\nCP- Texas A&M Agriculture\n@11AM
DTSTART;TZID=America/Chicago:20250228T110000
DTEND;TZID=America/Chicago:20250228T120000
LOCATION:15707 Kuykendahl Ct\, Conroe\, TX 77384 US
SUMMARY:Kuykendalh Court: Exercise
END:VEVENT
END:VCALENDAR
