BEGIN:VCALENDAR
VERSION:2.0
PRODID:-//empowercdc.org//NONSGML kigkonsult.se iCalcreator 2.30.10//
CALSCALE:GREGORIAN
METHOD:PUBLISH
UID:37930126-dac9-4325-a904-5e335d4d70ed
X-WR-CALDESC:EXERCISE\nLINE DANCE\n@3PM\n\n*Resident only event*
X-WR-RELCALID:3b986e57ced2f1a7f480c2601f4e7b92
X-WR-TIMEZONE:America/Chicago
BEGIN:VTIMEZONE
TZID:America/Chicago
BEGIN:STANDARD
TZNAME:CST
DTSTART:20241103T020000
TZOFFSETFROM:-0500
TZOFFSETTO:-0600
RDATE:20251102T020000
END:STANDARD
BEGIN:DAYLIGHT
TZNAME:CDT
DTSTART:20240310T020000
TZOFFSETFROM:-0600
TZOFFSETTO:-0500
RDATE:20250309T020000
RDATE:20260308T020000
END:DAYLIGHT
END:VTIMEZONE
BEGIN:VEVENT
UID:ce4f0adc-9945-4743-9a7b-2e30fc71e9e3
DTSTAMP:20260423T041928Z
DESCRIPTION:EXERCISE\nLINE DANCE\n@3PM\n\n*Resident only event*
DTSTART;TZID=America/Chicago:20250227T150000
DTEND;TZID=America/Chicago:20250227T160000
LOCATION:1620 Spencer Hwy\, South Houston\, TX 77587 US
SUMMARY:Windsor Gardens: Exercise
END:VEVENT
END:VCALENDAR
