BEGIN:VCALENDAR
VERSION:2.0
PRODID:-//empowercdc.org//NONSGML kigkonsult.se iCalcreator 2.30.10//
CALSCALE:GREGORIAN
METHOD:PUBLISH
UID:28939366-370c-4774-95e2-421b8d9a21f8
X-WR-CALDESC:ARTS & CRAFTS\nMardi Gras Masks\n@10:00AM\n\nTxSMP-\nScam of t
 he Month\n\n@11:00AM
X-WR-RELCALID:727c4ed87a94dee010f8a7f045bd3e46
X-WR-TIMEZONE:America/Chicago
BEGIN:VTIMEZONE
TZID:America/Chicago
BEGIN:STANDARD
TZNAME:CST
DTSTART:20241103T020000
TZOFFSETFROM:-0500
TZOFFSETTO:-0600
RDATE:20251102T020000
END:STANDARD
BEGIN:DAYLIGHT
TZNAME:CDT
DTSTART:20240310T020000
TZOFFSETFROM:-0600
TZOFFSETTO:-0500
RDATE:20250309T020000
RDATE:20260308T020000
END:DAYLIGHT
END:VTIMEZONE
BEGIN:VEVENT
UID:06fa555a-7aa6-410b-8534-656d4a142c55
DTSTAMP:20260423T042645Z
DESCRIPTION:ARTS & CRAFTS\nMardi Gras Masks\n@10:00AM\n\nTxSMP-\nScam of th
 e Month\n\n@11:00AM
DTSTART;TZID=America/Chicago:20250227T100000
DTEND;TZID=America/Chicago:20250227T120000
LOCATION:219 Flagship Blvd\, Montgomery\, TX 77316 US
SUMMARY:The Heritage 55+: Arts & Crafts / TxSMP
END:VEVENT
END:VCALENDAR
