BEGIN:VCALENDAR
VERSION:2.0
PRODID:-//empowercdc.org//NONSGML kigkonsult.se iCalcreator 2.30.10//
CALSCALE:GREGORIAN
METHOD:PUBLISH
UID:8eaedb0f-1250-41d6-88ba-437af4932dbb
X-WR-CALDESC:ARTS & CRAFTS\nDIY Heating Pads\n@12PM
X-WR-RELCALID:ed86e0cd1a03b1d44ada797239e49a78
X-WR-TIMEZONE:America/Chicago
BEGIN:VTIMEZONE
TZID:America/Chicago
BEGIN:STANDARD
TZNAME:CST
DTSTART:20241103T020000
TZOFFSETFROM:-0500
TZOFFSETTO:-0600
RDATE:20251102T020000
END:STANDARD
BEGIN:DAYLIGHT
TZNAME:CDT
DTSTART:20240310T020000
TZOFFSETFROM:-0600
TZOFFSETTO:-0500
RDATE:20250309T020000
RDATE:20260308T020000
END:DAYLIGHT
END:VTIMEZONE
BEGIN:VEVENT
UID:1f8d371b-8197-41ef-8312-963e63297c4d
DTSTAMP:20260423T044543Z
DESCRIPTION:ARTS & CRAFTS\nDIY Heating Pads\n@12PM
DTSTART;TZID=America/Chicago:20250225T120000
DTEND;TZID=America/Chicago:20250225T130000
LOCATION:15707 Kuykendahl Ct\, Conroe\, TX 77384 US
SUMMARY:Kuykendalh Court: Arts & Crafts
END:VEVENT
END:VCALENDAR
