BEGIN:VCALENDAR
VERSION:2.0
PRODID:-//empowercdc.org//NONSGML kigkonsult.se iCalcreator 2.30.10//
CALSCALE:GREGORIAN
METHOD:PUBLISH
UID:911ac236-fa72-4293-9d59-032f406700ff
X-WR-CALDESC:FOOD PANTRY\nEmpower\nMonthly Food Pantry\n@1:00 PM\n\n*Reside
 nt only event*
X-WR-RELCALID:851f5186ee91de389289b736a6026ff5
X-WR-TIMEZONE:America/Chicago
BEGIN:VTIMEZONE
TZID:America/Chicago
BEGIN:STANDARD
TZNAME:CST
DTSTART:20241103T020000
TZOFFSETFROM:-0500
TZOFFSETTO:-0600
RDATE:20251102T020000
END:STANDARD
BEGIN:DAYLIGHT
TZNAME:CDT
DTSTART:20240310T020000
TZOFFSETFROM:-0600
TZOFFSETTO:-0500
RDATE:20250309T020000
RDATE:20260308T020000
END:DAYLIGHT
END:VTIMEZONE
BEGIN:VEVENT
UID:17cb13b2-1799-403b-bc32-94c1c4738bbb
DTSTAMP:20260423T044824Z
DESCRIPTION:FOOD PANTRY\nEmpower\nMonthly Food Pantry\n@1:00 PM\n\n*Residen
 t only event*
DTSTART;TZID=America/Chicago:20250225T130000
DTEND;TZID=America/Chicago:20250225T140000
LOCATION:6725 Brittmoore Road\, Houston\, TX 77041 US
SUMMARY:Brittmoore: Food Pantry
END:VEVENT
END:VCALENDAR
