BEGIN:VCALENDAR
VERSION:2.0
PRODID:-//empowercdc.org//NONSGML kigkonsult.se iCalcreator 2.30.10//
CALSCALE:GREGORIAN
METHOD:PUBLISH
UID:2689aa7a-f7ed-4a13-b19d-d76fee261ce4
X-WR-CALDESC:ARTS & CRAFTS\nEmpower\nVelvet Poster Art\n@ 3:00 PM\n\n*Resid
 ent only event*
X-WR-RELCALID:1efbbe3763c5e34f826dcb5b11068665
X-WR-TIMEZONE:America/Chicago
BEGIN:VTIMEZONE
TZID:America/Chicago
BEGIN:STANDARD
TZNAME:CST
DTSTART:20241103T020000
TZOFFSETFROM:-0500
TZOFFSETTO:-0600
RDATE:20251102T020000
END:STANDARD
BEGIN:DAYLIGHT
TZNAME:CDT
DTSTART:20240310T020000
TZOFFSETFROM:-0600
TZOFFSETTO:-0500
RDATE:20250309T020000
RDATE:20260308T020000
END:DAYLIGHT
END:VTIMEZONE
BEGIN:VEVENT
UID:ccb0c5e8-cb68-4e5f-a356-149f2a9e52e2
DTSTAMP:20260423T042109Z
DESCRIPTION:ARTS & CRAFTS\nEmpower\nVelvet Poster Art\n@ 3:00 PM\n\n*Reside
 nt only event*
DTSTART;TZID=America/Chicago:20250221T150000
DTEND;TZID=America/Chicago:20250221T160000
LOCATION:12353 Huffmeister Rd\, Cypress\, TX 77429 US
SUMMARY:The Meadows: Arts & Crafts
END:VEVENT
END:VCALENDAR
