BEGIN:VCALENDAR
VERSION:2.0
PRODID:-//empowercdc.org//NONSGML kigkonsult.se iCalcreator 2.30.10//
CALSCALE:GREGORIAN
METHOD:PUBLISH
UID:988b465b-8b62-44fe-9e3e-80409ba18643
X-WR-CALDESC:FOOD PANTRY-\nEmpower\n\nFood Pantry\n@ 2:00PM\n\nTxSMP-\nScam
  of the Month\n\n@2:30PM
X-WR-RELCALID:34426faa4360aaccb5bbbf9ac4609539
X-WR-TIMEZONE:America/Chicago
BEGIN:VTIMEZONE
TZID:America/Chicago
BEGIN:STANDARD
TZNAME:CST
DTSTART:20241103T020000
TZOFFSETFROM:-0500
TZOFFSETTO:-0600
RDATE:20251102T020000
END:STANDARD
BEGIN:DAYLIGHT
TZNAME:CDT
DTSTART:20240310T020000
TZOFFSETFROM:-0600
TZOFFSETTO:-0500
RDATE:20250309T020000
RDATE:20260308T020000
END:DAYLIGHT
END:VTIMEZONE
BEGIN:VEVENT
UID:af0210e5-68dd-48b2-8a9b-5929aec4daed
DTSTAMP:20260423T044312Z
DESCRIPTION:FOOD PANTRY-\nEmpower\n\nFood Pantry\n@ 2:00PM\n\nTxSMP-\nScam 
 of the Month\n\n@2:30PM
DTSTART;TZID=America/Chicago:20250220T140000
DTEND;TZID=America/Chicago:20250220T150000
LOCATION:325 Flagship Boulevard\, Montgomery\, TX 77316 US
SUMMARY:The Heritage: Food Pantry\, TxSMP
END:VEVENT
END:VCALENDAR
