BEGIN:VCALENDAR
VERSION:2.0
PRODID:-//empowercdc.org//NONSGML kigkonsult.se iCalcreator 2.30.10//
CALSCALE:GREGORIAN
METHOD:PUBLISH
UID:ca53cad5-0b20-4976-9591-3f0d82c87f71
X-WR-CALDESC:TxSMP-\nScam of the Month\n\n@11:00AM
X-WR-RELCALID:d74bfeb9a44aad34b9842e14d972fb12
X-WR-TIMEZONE:America/Chicago
BEGIN:VTIMEZONE
TZID:America/Chicago
BEGIN:STANDARD
TZNAME:CST
DTSTART:20241103T020000
TZOFFSETFROM:-0500
TZOFFSETTO:-0600
RDATE:20251102T020000
END:STANDARD
BEGIN:DAYLIGHT
TZNAME:CDT
DTSTART:20240310T020000
TZOFFSETFROM:-0600
TZOFFSETTO:-0500
RDATE:20250309T020000
RDATE:20260308T020000
END:DAYLIGHT
END:VTIMEZONE
BEGIN:VEVENT
UID:2e198461-10c4-42a6-96a4-07cdd2eb5ef2
DTSTAMP:20260423T045024Z
DESCRIPTION:TxSMP-\nScam of the Month\n\n@11:00AM
DTSTART;TZID=America/Chicago:20250220T110000
DTEND;TZID=America/Chicago:20250220T120000
LOCATION:219 Flagship Blvd\, Montgomery\, TX 77316 US
SUMMARY:The Heritage 55+: TxSMP - Scam of the Month
END:VEVENT
END:VCALENDAR
