BEGIN:VCALENDAR
VERSION:2.0
PRODID:-//empowercdc.org//NONSGML kigkonsult.se iCalcreator 2.30.10//
CALSCALE:GREGORIAN
METHOD:PUBLISH
UID:e1e47c69-3a69-4cb5-8e3c-f39b2499f694
X-WR-CALDESC:ARTS & CRAFTS\nEmpower\nBracelets\n@3:00\n\n*Resident only eve
 nt*
X-WR-RELCALID:833580f1f2800e928768316f9eb2b8d5
X-WR-TIMEZONE:America/Chicago
BEGIN:VTIMEZONE
TZID:America/Chicago
BEGIN:STANDARD
TZNAME:CST
DTSTART:20241103T020000
TZOFFSETFROM:-0500
TZOFFSETTO:-0600
RDATE:20251102T020000
END:STANDARD
BEGIN:DAYLIGHT
TZNAME:CDT
DTSTART:20240310T020000
TZOFFSETFROM:-0600
TZOFFSETTO:-0500
RDATE:20250309T020000
RDATE:20260308T020000
END:DAYLIGHT
END:VTIMEZONE
BEGIN:VEVENT
UID:0e205f9d-501f-4c13-859a-ea5f6ca4b3c6
DTSTAMP:20260423T042125Z
DESCRIPTION:ARTS & CRAFTS\nEmpower\nBracelets\n@3:00\n\n*Resident only even
 t*
DTSTART;TZID=America/Chicago:20250220T150000
DTEND;TZID=America/Chicago:20250220T160000
LOCATION:6725 Brittmoore Road\, Houston\, TX 77041 US
SUMMARY:Brittmoore: Arts & Crafts
END:VEVENT
END:VCALENDAR
