BEGIN:VCALENDAR
VERSION:2.0
PRODID:-//empowercdc.org//NONSGML kigkonsult.se iCalcreator 2.30.10//
CALSCALE:GREGORIAN
METHOD:PUBLISH
UID:5eea06f3-6546-475c-9998-b9d3cfbddf75
X-WR-CALDESC:SOCIAL\nCP- JEANETTE MORALES\nBINGO PARTY\n@11AM
X-WR-RELCALID:997eb9dffbc4a15da4c3a4c8653904ee
X-WR-TIMEZONE:America/Chicago
BEGIN:VTIMEZONE
TZID:America/Chicago
BEGIN:STANDARD
TZNAME:CST
DTSTART:20241103T020000
TZOFFSETFROM:-0500
TZOFFSETTO:-0600
RDATE:20251102T020000
END:STANDARD
BEGIN:DAYLIGHT
TZNAME:CDT
DTSTART:20240310T020000
TZOFFSETFROM:-0600
TZOFFSETTO:-0500
RDATE:20250309T020000
RDATE:20260308T020000
END:DAYLIGHT
END:VTIMEZONE
BEGIN:VEVENT
UID:b872035c-b2dc-47c1-8ed1-5ba9354a5e09
DTSTAMP:20260423T044312Z
DESCRIPTION:SOCIAL\nCP- JEANETTE MORALES\nBINGO PARTY\n@11AM
DTSTART;TZID=America/Chicago:20250218T110000
DTEND;TZID=America/Chicago:20250218T120000
LOCATION:15707 Kuykendahl Ct\, Conroe\, TX 77384 US
SUMMARY:Kuykendalh Court: Bingo Party
END:VEVENT
END:VCALENDAR
