BEGIN:VCALENDAR
VERSION:2.0
PRODID:-//empowercdc.org//NONSGML kigkonsult.se iCalcreator 2.30.10//
CALSCALE:GREGORIAN
METHOD:PUBLISH
UID:6ff87d6d-e1fc-4fc1-b7f9-3a1beadebe13
X-WR-CALDESC:EXERCISE- Empower\nTai Chi\n@10:00 AM\n\nTxSMP-\nScam of the M
 onth\n\n@ 11:00AM
X-WR-RELCALID:6489f0f793b96489bac410a326586c77
X-WR-TIMEZONE:America/Chicago
BEGIN:VTIMEZONE
TZID:America/Chicago
BEGIN:STANDARD
TZNAME:CST
DTSTART:20241103T020000
TZOFFSETFROM:-0500
TZOFFSETTO:-0600
RDATE:20251102T020000
END:STANDARD
BEGIN:DAYLIGHT
TZNAME:CDT
DTSTART:20240310T020000
TZOFFSETFROM:-0600
TZOFFSETTO:-0500
RDATE:20250309T020000
RDATE:20260308T020000
END:DAYLIGHT
END:VTIMEZONE
BEGIN:VEVENT
UID:ca62a3f1-4936-4eb6-8952-132cc219b41e
DTSTAMP:20260423T042046Z
DESCRIPTION:EXERCISE- Empower\nTai Chi\n@10:00 AM\n\nTxSMP-\nScam of the Mo
 nth\n\n@ 11:00AM
DTSTART;TZID=America/Chicago:20250218T100000
DTEND;TZID=America/Chicago:20250218T120000
LOCATION:1830 Hollyoak Dr\, Houston\, TX 77084 US
SUMMARY:Hollyoak: Exercise\, TxSMP
END:VEVENT
END:VCALENDAR
