BEGIN:VCALENDAR
VERSION:2.0
PRODID:-//empowercdc.org//NONSGML kigkonsult.se iCalcreator 2.30.10//
CALSCALE:GREGORIAN
METHOD:PUBLISH
UID:3229bbae-fb32-412f-8515-5f5aed04dc66
X-WR-CALDESC:SOCIAL - Empower\nBirthday Social\n@ 3:00 PM\n\n*Resident only
  event*
X-WR-RELCALID:87f3104d0b9b91c95e158907663b4d69
X-WR-TIMEZONE:America/Chicago
BEGIN:VTIMEZONE
TZID:America/Chicago
BEGIN:STANDARD
TZNAME:CST
DTSTART:20241103T020000
TZOFFSETFROM:-0500
TZOFFSETTO:-0600
RDATE:20251102T020000
END:STANDARD
BEGIN:DAYLIGHT
TZNAME:CDT
DTSTART:20240310T020000
TZOFFSETFROM:-0600
TZOFFSETTO:-0500
RDATE:20250309T020000
RDATE:20260308T020000
END:DAYLIGHT
END:VTIMEZONE
BEGIN:VEVENT
UID:8cd74e00-de5a-4fc2-ad6a-852fb430f162
DTSTAMP:20260423T042309Z
DESCRIPTION:SOCIAL - Empower\nBirthday Social\n@ 3:00 PM\n\n*Resident only 
 event*
DTSTART;TZID=America/Chicago:20250218T150000
DTEND;TZID=America/Chicago:20250218T160000
LOCATION:6725 Brittmoore Road\, Houston\, TX 77041 US
SUMMARY:Brittmoore: Birthday Social
END:VEVENT
END:VCALENDAR
